BEGIN:VCALENDAR
PRODID:-//eluceo/ical//2.0/EN
VERSION:2.0
CALSCALE:GREGORIAN
BEGIN:VEVENT
UID:09328fae5fd1a7acb910eef6381bfdc1
DTSTAMP:20260421T225912Z
SUMMARY:AIPAC National Women's Program
DESCRIPTION:United Jewish Federation of Utah\nCalendar\nhttps://shalomutah.
 org/united-jewish-federation-of-utah-calendar/aipac-national-womens-progra
 m-1620843603\n\nThis virtual event is by invitation only. For more informa
 tion\, please contact spaevents@aipac.org.
DTSTART;TZID=America/Denver:20210525T110000
DTEND;TZID=America/Denver:20210525T120000
END:VEVENT
END:VCALENDAR
