BEGIN:VCALENDAR
PRODID:-//eluceo/ical//2.0/EN
VERSION:2.0
CALSCALE:GREGORIAN
BEGIN:VEVENT
UID:00144ea02ebf7cdbfcdd4c4e21d0210f
DTSTAMP:20260422T140403Z
SUMMARY:AIPAC Spring Program
DESCRIPTION:United Jewish Federation of Utah\nCalendar\nhttps://shalomutah.
 org/united-jewish-federation-of-utah-calendar/aipac-spring-program-1616458
 810\n\nThis virtual event is by invitation only. For more info\, please em
 ail spaevents@aipac.org or contact the AIPAC office at: 323-937-1184.
DTSTART;TZID=America/Denver:20210506T203000
DTEND;TZID=America/Denver:20210506T213000
END:VEVENT
END:VCALENDAR
