BEGIN:VCALENDAR
PRODID:-//eluceo/ical//2.0/EN
VERSION:2.0
CALSCALE:GREGORIAN
BEGIN:VEVENT
UID:34bf4e098160c3e91e42ef1841bb6ffc
DTSTAMP:20260420T193252Z
SUMMARY:AIPAC Utah Annual Event
DESCRIPTION:United Jewish Federation of Utah\nCalendar\nhttps://shalomutah.
 org/united-jewish-federation-of-utah-calendar/aipac-utah-annual-event-1566
 489713\n\nFor questions\, please contact the AIPAC office at (435) 602-616
 0.
DTSTART;TZID=America/Denver:20191124T110000
DTEND;TZID=America/Denver:20191124T133000
END:VEVENT
END:VCALENDAR
