BEGIN:VCALENDAR
PRODID:-//eluceo/ical//2.0/EN
VERSION:2.0
CALSCALE:GREGORIAN
BEGIN:VEVENT
UID:03bdb72b5ca721c2e46e32871800899e
DTSTAMP:20260420T021959Z
SUMMARY:Ambassador David Saperstein will speak at Congregation Kol Ami
DESCRIPTION:United Jewish Federation of Utah\nCalendar\nhttps://shalomutah.
 org/united-jewish-federation-of-utah-calendar/ambassador-david-saperstein-
 will-speak-at-congregation-kol-ami-1479163175\n\nAmbassador David Saperste
 in will offer the D&#039\;var Torah during erev Shabbat Services.. Everyon
 e is invited to join us for an Oneg Shabbat in the Youth Lounge following 
 services.
DTSTART;TZID=America/Denver:20161118T183000
DTEND;TZID=America/Denver:20161118T203000
END:VEVENT
END:VCALENDAR
