BEGIN:VCALENDAR
PRODID:-//eluceo/ical//2.0/EN
VERSION:2.0
CALSCALE:GREGORIAN
BEGIN:VEVENT
UID:518e36065bf7d359b89dc4cc7817b7de
DTSTAMP:20260422T004035Z
SUMMARY:An Encounter with Israeli Music Taught
DESCRIPTION:United Jewish Federation of Utah\nCalendar\nhttps://shalomutah.
 org/united-jewish-federation-of-utah-calendar/an-encounter-with-israeli-mu
 sic-taught-by-michael-greenfield-1558113043\n\nEurovision is happening rig
 ht now! Huh? What's Eurovision? It's the Olympics of international pop mus
 ic and it's bigger than the World Cup...but not in the US. Last year's win
 ning country (Israel!) gets to host this year (it's in Tel Aviv!). From pr
 e-statehood music to this year's entry in Eurovision\, we'll explore and l
 isten to some Israeli music and ask questions about what the music says ab
 out the Jewish people and the Jewish state.\n\nEmail Michael Greenfield at
  michael@templeharshalom.co...
DTSTART;TZID=America/Denver:20190711T190000
DTEND;TZID=America/Denver:20190711T203000
END:VEVENT
END:VCALENDAR
