BEGIN:VCALENDAR
PRODID:-//eluceo/ical//2.0/EN
VERSION:2.0
CALSCALE:GREGORIAN
BEGIN:VEVENT
UID:2eb32d939c7a119b2f4e049e5bcd1735
DTSTAMP:20260421T024101Z
SUMMARY:An Evening of Chamber Music
DESCRIPTION:United Jewish Federation of Utah\nCalendar\nhttps://shalomutah.
 org/united-jewish-federation-of-utah-calendar/an-evening-of-chamber-music-
 1515105441\n\nListen to the music of Brahms\, Mozart and Paul Schoenfeld t
 hat evening by some of Salt Lake's finest musicians.
DTSTART;TZID=America/Denver:20180127T193000
DTEND;TZID=America/Denver:20180127T210000
END:VEVENT
END:VCALENDAR
