BEGIN:VCALENDAR
PRODID:-//eluceo/ical//2.0/EN
VERSION:2.0
CALSCALE:GREGORIAN
BEGIN:VEVENT
UID:b486e50352ba67bbb95937ae95e8e9ab
DTSTAMP:20260420T010721Z
SUMMARY:An Evening With Abby Stein
DESCRIPTION:United Jewish Federation of Utah\nCalendar\nhttps://shalomutah.
 org/united-jewish-federation-of-utah-calendar/an-evening-with-abby-stein-1
 611621969\n\nYou must pre-register for this event. $10 for non WHS members
  to cover the cost of programs such as this.
DTSTART;TZID=America/Denver:20210210T190000
DTEND;TZID=America/Denver:20210210T200000
END:VEVENT
END:VCALENDAR
