BEGIN:VCALENDAR
PRODID:-//eluceo/ical//2.0/EN
VERSION:2.0
CALSCALE:GREGORIAN
BEGIN:VEVENT
UID:130473484f8516ac473e04ba34ea6233
DTSTAMP:20260419T232104Z
SUMMARY:An Evening with Amb. Dennis Ross
DESCRIPTION:United Jewish Federation of Utah\nCalendar\nhttps://shalomutah.
 org/united-jewish-federation-of-utah-calendar/an-evening-with-amb-dennis-r
 oss\n\nInformation coming soon.
DTSTART;TZID=America/Denver:20231025T190000
DTEND;TZID=America/Denver:20231025T210000
END:VEVENT
END:VCALENDAR
