BEGIN:VCALENDAR
PRODID:-//eluceo/ical//2.0/EN
VERSION:2.0
CALSCALE:GREGORIAN
BEGIN:VEVENT
UID:9ab1e856ed613ce8438d65d9420bd13c
DTSTAMP:20260422T005000Z
SUMMARY:An Evening with the Consul General of Israel
DESCRIPTION:United Jewish Federation of Utah\nCalendar\nhttps://shalomutah.
 org/united-jewish-federation-of-utah-calendar/an-evening-with-the-consul-g
 eneral\n\nJoin us for a conversation with Consul General of Israel\, Same 
 Grundwerg on January 17 at 6:00 PM\,\n\nSam Grundwerg was appointed Consul
  General of Israel in Los Angeles by Prime Minister Benjamin Netanyahu in 
 April 2016 and assumed the post in August 2016. Mr. Grundwerg is the senio
 r representative of the State of Israel to the Southwestern United States
 .\n\nFollowing the Consul General at 7:00 PM\, please stay and enjoy the m
 ovie "The Matchmaker" by Israeli film director Avi Nesher. The fil...
DTSTART;TZID=America/Denver:20170117T180000
DTEND;TZID=America/Denver:20170117T190000
END:VEVENT
END:VCALENDAR
