BEGIN:VCALENDAR
PRODID:-//eluceo/ical//2.0/EN
VERSION:2.0
CALSCALE:GREGORIAN
BEGIN:VEVENT
UID:35640b65545f9c8886949b94d772499c
DTSTAMP:20260423T202039Z
SUMMARY:An Introduction to Trauma Informed Care
DESCRIPTION:United Jewish Federation of Utah\nCalendar\nhttps://shalomutah.
 org/united-jewish-federation-of-utah-calendar/an-introduction-to-trauma-in
 formed-care\n\npresented by:\n\nMelissa Zimmerman\, MSW\n\nExecutive Direc
 tor of Jewish Family Service\n\n \n\nThis is a free event!\n\n \n\nRSVPs
  appreciated by May 6 by visiting https://bit.ly/4kGxqRX\, or call 801-74
 6-4334\n\n \n\nTrauma-Informed Care represents a shift in focus from "wha
 t's wrong with you?" to "what happened to you?" Come learn about trauma\, 
 its effects on brain development and long-term well-being\, and how you ca
 n make a difference in the lives of people trying to heal.
DTSTART;TZID=America/Denver:20250508T173000
DTEND;TZID=America/Denver:20250508T190000
END:VEVENT
END:VCALENDAR
