BEGIN:VCALENDAR
PRODID:-//eluceo/ical//2.0/EN
VERSION:2.0
CALSCALE:GREGORIAN
BEGIN:VEVENT
UID:f0bb3b2762138aa8b0125fdd321f7027
DTSTAMP:20260420T180518Z
SUMMARY:Annual AIPAC Congressional Reception & Luncheon
DESCRIPTION:United Jewish Federation of Utah\nCalendar\nhttps://shalomutah.
 org/united-jewish-federation-of-utah-calendar/annual-aipac-congressional-r
 eception--luncheon-1442539798\n\nANNUAL AIPAC CONGRESSIONAL LUNCHEON SALT 
 LAKE CITY\n\nIF YOU HAVE CHILDREN or GRANDCHILDREN IN HIGH SCHOOL or COLLE
 GE\n\n\nSAVE THIS DATE AND PLAN TO JOIN US!!\nAIPAC and the Utah Task Forc
 e will present an exceptional program\n\n\nAIPAC on Campus: Securing the F
 uture of the US-Israel Alliance\n \n\nAIPAC believes the key to securing 
 the U.S.-Israel alliance in the future is to educate student leaders today
 . AIPAC’s Leadership Development Department empowers students to be conf
 ident advoca...
DTSTART;TZID=America/Denver:20151122T113000
DTEND;TZID=America/Denver:20151122T140000
END:VEVENT
END:VCALENDAR
