BEGIN:VCALENDAR
PRODID:-//eluceo/ical//2.0/EN
VERSION:2.0
CALSCALE:GREGORIAN
BEGIN:VEVENT
UID:80e6ad1f340b6c0a507daf2d72ad89b7
DTSTAMP:20260420T132456Z
SUMMARY:Annual Community Celebration
DESCRIPTION:United Jewish Federation of Utah\nCalendar\nhttps://shalomutah.
 org/united-jewish-federation-of-utah-calendar/annual-community-celebration
 \n\nCocktails\, Nosh & Community\n\nThursday\, November 16\, 2017\nI.J. & 
 Jeanné Wagner \nJewish Community Center\n6:00 PM - $36 Per Person\nCockt
 ails & heavy Hors-d'oeuvres\n\nPlease RSVP by November 8th \n\nShort Docu
 mentary - Followed by Q & A\nDavina Pardo Emmy®-award winning filmmaker.
  \n\n“116 Cameras” - the 16-minute documentary that follows a Holocau
 st survivor as she is transformed into an interactive hologram that will i
 nteract with generations to come.
DTSTART;TZID=America/Denver:20171116T180000
DTEND;TZID=America/Denver:20171116T210000
END:VEVENT
END:VCALENDAR
