BEGIN:VCALENDAR
PRODID:-//eluceo/ical//2.0/EN
VERSION:2.0
CALSCALE:GREGORIAN
BEGIN:VEVENT
UID:33af47d3dffe9a8bfa6b6b23597a7d11
DTSTAMP:20260420T140903Z
SUMMARY:Anti-Semitism Today and the Dynamics of Othering
DESCRIPTION:United Jewish Federation of Utah\nCalendar\nhttps://shalomutah.
 org/united-jewish-federation-of-utah-calendar/anti-semitism-today-and-the-
 dynamics-of-othering\n\nPanel Discussion\n\nAntisemitism today and the dyn
 amics of othering\n\nWith panelists VicePresident Mary Ann Villarreal\; Ju
 lie Ault\, PH\, D.\; Edmund Fong\, PH\, D\; Vincent Cheng\, PH.D
DTSTART;TZID=America/Denver:20200205T120000
DTEND;TZID=America/Denver:20200205T131500
END:VEVENT
END:VCALENDAR
