BEGIN:VCALENDAR
PRODID:-//eluceo/ical//2.0/EN
VERSION:2.0
CALSCALE:GREGORIAN
BEGIN:VEVENT
UID:fff8cddf949141b7cc69ba17dea45930
DTSTAMP:20260421T013149Z
SUMMARY:April Men's Night Out with Michael Finkel
DESCRIPTION:United Jewish Federation of Utah\nCalendar\nhttps://shalomutah.
 org/united-jewish-federation-of-utah-calendar/april-mens-night-out\n\nThur
 sday\,Â AprilÂ 3Â @Â 6Â PM\n\nLocationÂ ParkÂ City\,Â Utah.Â AddressÂ give
 nÂ afterÂ RSVP.\n\nDinnerÂ providedÂ -Â $20Â atÂ theÂ door\n\nGuestÂ Speak
 er:Â MichaelÂ Finkel\n\nTopic:Â AfghanistanÂ toÂ Zambia:Â 30Â yearsÂ ofÂ g
 lobalÂ reporting\n\nMichaelÂ FinkelÂ isÂ theÂ bestsellingÂ authorÂ ofÂ The
 Â ArtÂ Thief\,Â TheÂ StrangerÂ inÂ theÂ Woods\,Â andÂ TrueÂ Story.Â Finkel
 Â hasÂ reportedÂ fromÂ moreÂ thanÂ fiftyÂ countriesÂ acrossÂ sixÂ continen
 ts\,Â coveringÂ topicsÂ rangingÂ fromÂ theÂ worldâ€™sÂ...
DTSTART;TZID=America/Denver:20250403T180000
DTEND;TZID=America/Denver:20250403T200000
END:VEVENT
END:VCALENDAR
