BEGIN:VCALENDAR
PRODID:-//eluceo/ical//2.0/EN
VERSION:2.0
CALSCALE:GREGORIAN
BEGIN:VEVENT
UID:3e3609b6e5959ef131b84940cbd8dc19
DTSTAMP:20260420T014119Z
SUMMARY:April Women's Circle
DESCRIPTION:United Jewish Federation of Utah\nCalendar\nhttps://shalomutah.
 org/united-jewish-federation-of-utah-calendar/april-womens-circle\n\nThis
  is a group for Jewish women in their 30s and 40s. Each gathe
 ring includes socializing\, a facilitated group and paired convers
 ations\, and an activity or speaker. We meet in private homes\,
  nosh\, and enjoy a glass of wine or sparkling water. Our goal
  is to deepen relationships\, support one another personally and
  professionally\, and create a community based on shared values 
 and sharing.\n\nGatherings are facilitated by Liz P...
DTSTART;TZID=America/Denver:20250407T190000
DTEND;TZID=America/Denver:20250407T210000
END:VEVENT
END:VCALENDAR
