BEGIN:VCALENDAR
PRODID:-//eluceo/ical//2.0/EN
VERSION:2.0
CALSCALE:GREGORIAN
BEGIN:VEVENT
UID:475342b62cabb17ac3f43cea2c61daa6
DTSTAMP:20260420T112641Z
SUMMARY:Art Sale - Israeli Artists\, Goldie and Moshe Monzon
DESCRIPTION:United Jewish Federation of Utah\nCalendar\nhttps://shalomutah.
 org/united-jewish-federation-of-utah-calendar/art-sale---israeli-artists-g
 oldie-and-moshe-monzon-1517866165\n\nIsraeli Artists\, Goldie and Moshe Mo
 nzon will bring their travelling show to the JCC for three days. Art\, pri
 nts and jewelry will be for sale in the Lobby.
DTSTART;TZID=America/Denver:20180221T090000
DTEND;TZID=America/Denver:20180223T150000
END:VEVENT
END:VCALENDAR
