BEGIN:VCALENDAR
PRODID:-//eluceo/ical//2.0/EN
VERSION:2.0
CALSCALE:GREGORIAN
BEGIN:VEVENT
UID:919501edfc46b8b074fbcf2c965a7b08
DTSTAMP:20260420T003951Z
SUMMARY:Asperger's Children: The origins of Autism in Nazi Vienna
DESCRIPTION:United Jewish Federation of Utah\nCalendar\nhttps://shalomutah.
 org/united-jewish-federation-of-utah-calendar/aspergers-children-the-origi
 ns-of-autism-in-nazi-vienna\n\nPlenary By Dr. Edith Sheffer\n\nAsperger's 
 Children: The origins of Autism in Nazi Vienna\n\nAt the J.Willard Marriot
 t Library: Gold Auditorium\n\n 
DTSTART;TZID=America/Denver:20200204T120000
DTEND;TZID=America/Denver:20200204T133000
END:VEVENT
END:VCALENDAR
