BEGIN:VCALENDAR
PRODID:-//eluceo/ical//2.0/EN
VERSION:2.0
CALSCALE:GREGORIAN
BEGIN:VEVENT
UID:1d95a9c5ace8abe47ab2a6826feefa8e
DTSTAMP:20260420T190048Z
SUMMARY:Bake & Sip at Kol Ami
DESCRIPTION:United Jewish Federation of Utah\nCalendar\nhttps://shalomutah.
 org/united-jewish-federation-of-utah-calendar/bake--sip-at-kol-ami-1737059
 125\n\nLearn to bake delicious hamantaschen with Kol Ami member Melanie Je
 nson while enjoying good company and a glass of wine. Whether you’re a b
 aking pro or a beginner\, this is a perfect opportunity to connect\, creat
 e\, and celebrate! Ages 21+ only.• • •RSVP at conkolami.org/bake-an
 d-sipEarly-bird pricing through Jan. 28th Kol Ami Members: $14 per person 
 / Guests: $20 per personRegular pricing Kol Ami Members: $18 per person / 
 Guests: $24 per person
DTSTART;TZID=America/Denver:20250206T183000
DTEND;TZID=America/Denver:20250206T203000
END:VEVENT
END:VCALENDAR
