BEGIN:VCALENDAR
PRODID:-//eluceo/ical//2.0/EN
VERSION:2.0
CALSCALE:GREGORIAN
BEGIN:VEVENT
UID:5f40beb789dddc435f2519578a035972
DTSTAMP:20260422T232531Z
SUMMARY:Bartali Youth -In-Movement Bike Ride and Evening event
DESCRIPTION:United Jewish Federation of Utah\nCalendar\nhttps://shalomutah.
 org/united-jewish-federation-of-utah-calendar/bartali-youth--in-movement-b
 ike-ride-and-evening-event-1776810789\n\nEvening event introducing Bartali
  Youth in Movement\, an across the country Israeli organization engaging y
 outh at risk through biking-related activities. Event on June23 followed b
 y an easy Bike ride on June 24th both in Park City.
DTSTART;TZID=America/Denver:20260623T190000
DTEND;TZID=America/Denver:20260624T100000
END:VEVENT
END:VCALENDAR
