BEGIN:VCALENDAR
PRODID:-//eluceo/ical//2.0/EN
VERSION:2.0
CALSCALE:GREGORIAN
BEGIN:VEVENT
UID:ee656e1822eb54d589a4c657856e09f3
DTSTAMP:20260421T024122Z
SUMMARY:Bearing Witness: An Evening with Holocaust Survivor Ruth Kapp Hartz
DESCRIPTION:United Jewish Federation of Utah\nCalendar\nhttps://shalomutah.
 org/united-jewish-federation-of-utah-calendar/bearing-witness-an-evening-w
 ith-holocaust-survivor-ruth-kapp-hartz-1555349300\n\nJoin us for a special
  evening to hear the story of Holocaust survivor\, Ruth Kapp Hartz.\n\nSur
 vivor/speaker\, Ruth Kapp Hartz\, is a graduate of the University of Paris
  (Sorbonne). After having survived the horrors of World War II in France\,
  she emigrated to the U.S. in 1958. She taught French for over thirty year
 s in Pennsylvania at the Springside School\, Bryn Mawr College\, and Arcad
 ia University. She is a member of the PA Holocaust Education Council\, the
  American Association of Teachers of Fr...
DTSTART;TZID=America/Denver:20190417T170000
DTEND;TZID=America/Denver:20190417T183000
END:VEVENT
END:VCALENDAR
