BEGIN:VCALENDAR
PRODID:-//eluceo/ical//2.0/EN
VERSION:2.0
CALSCALE:GREGORIAN
BEGIN:VEVENT
UID:4b5e1e9e303e37b9b7a73eddf11a6196
DTSTAMP:20260422T234941Z
SUMMARY:BeAware: Situational Awareness Training
DESCRIPTION:United Jewish Federation of Utah\nCalendar\nhttps://shalomutah.
 org/united-jewish-federation-of-utah-calendar/beaware-situational-awarenes
 s-dec-2023-453491\n\nBeAware\, SCN’s Introduction to Situational Awarene
 ss Course\, seeks to build observation skills and will teach you best prac
 tice techniques to recognize and react to various situations in your every
 day life – from going to synagogue and dropping off children at school\,
  to going to the gas station or an ATM. The course will cover the basics o
 f situational awareness and how to help protect yourself\, your family\, a
 nd your community.  The training will last approximately one hour with ti
 me av...
DTSTART;TZID=America/Denver:20231212T190000
DTEND;TZID=America/Denver:20231212T210000
END:VEVENT
END:VCALENDAR
