BEGIN:VCALENDAR
PRODID:-//eluceo/ical//2.0/EN
VERSION:2.0
CALSCALE:GREGORIAN
BEGIN:VEVENT
UID:89e3729a7920bdbae78c8fb1a5205c37
DTSTAMP:20260421T212112Z
SUMMARY:BeeCHAI Happy Hour
DESCRIPTION:United Jewish Federation of Utah\nCalendar\nhttps://shalomutah.
 org/united-jewish-federation-of-utah-calendar/beechai-happy-hour\n\nJoin t
 he BeeCHAIs Thursday January 25 at 7:00 PM\, to shmooze\, hang out\, have 
 a drink and have some fun. This month we will be having it at BTG Wine Bar
 .\n\nDetails\n\nWhen: January 25\, 2018\nTime: 7:00 PM \nWhere: BTG Wine 
 Bar\nAddress: 63 W 100 S. SLC 84101\nCost: Whatever you choose to eat and 
 drink
DTSTART;TZID=America/Denver:20180125T190000
DTEND;TZID=America/Denver:20180125T220000
END:VEVENT
END:VCALENDAR
