BEGIN:VCALENDAR
PRODID:-//eluceo/ical//2.0/EN
VERSION:2.0
CALSCALE:GREGORIAN
BEGIN:VEVENT
UID:df15868f9a281c3138f598fb43870573
DTSTAMP:20260421T075442Z
SUMMARY:BeeCHAIs: Bagelicious Break Fast
DESCRIPTION:United Jewish Federation of Utah\nCalendar\nhttps://shalomutah.
 org/united-jewish-federation-of-utah-calendar/beechais-break-fast\n\nHowev
 er you choose to observe Yom Kippur\, end the evening with a bagelicious B
 eeCHAIs experience! If you are fasting\, break it with us. If you are look
 ing for a delicious bagel spread\, eat with us. If you want to meet new fr
 iends\, laugh with us! Yom Kippur is a meaningful holiday in whatever way 
 you choose to observe. Join us for a relaxing evening following the holida
 y.\n\nLocation: Home of Yahelle Yaccoby. Address given after RSVP.\n\nRegi
 ster here: https://shalomutah.regfox.com/beechais-br...
DTSTART;TZID=America/Denver:20230925T200000
DTEND;TZID=America/Denver:20230925T220000
END:VEVENT
END:VCALENDAR
