BEGIN:VCALENDAR
PRODID:-//eluceo/ical//2.0/EN
VERSION:2.0
CALSCALE:GREGORIAN
BEGIN:VEVENT
UID:5c255d193b93c2f4c382b5ee813a5b7b
DTSTAMP:20260421T075411Z
SUMMARY:BeeCHAIs Brunch
DESCRIPTION:United Jewish Federation of Utah\nCalendar\nhttps://shalomutah.
 org/united-jewish-federation-of-utah-calendar/beechais-brunch\n\nJump into
  fall with BeeCHAIs Brunch! Spend time with old and new friends as Wasatch
  Brewery in Sugarhouse.\n\nPlease RSVP by September 15.\n\nRSVP: shalomuta
 h.regfox.com/beechais-brunch
DTSTART;TZID=America/Denver:20220918T110000
DTEND;TZID=America/Denver:20220918T130000
END:VEVENT
END:VCALENDAR
