BEGIN:VCALENDAR
PRODID:-//eluceo/ical//2.0/EN
VERSION:2.0
CALSCALE:GREGORIAN
BEGIN:VEVENT
UID:e0aa13f7dcc5e152d01607da13016631
DTSTAMP:20260421T195240Z
SUMMARY:BeeCHAIs Chinese Food Dinner
DESCRIPTION:United Jewish Federation of Utah\nCalendar\nhttps://shalomutah.
 org/united-jewish-federation-of-utah-calendar/beechais-chinese-food-dinner
 \n\nWhat Do Jews Do on Xmas Even??? Eat Chinese food of course!!!\n\n5th A
 nnual\n\nMore Details to come!
DTSTART;TZID=America/Denver:20181224T180000
DTEND;TZID=America/Denver:20181224T210000
END:VEVENT
END:VCALENDAR
