BEGIN:VCALENDAR
PRODID:-//eluceo/ical//2.0/EN
VERSION:2.0
CALSCALE:GREGORIAN
BEGIN:VEVENT
UID:a54b13a0e5f0384aeb42fbcefd577c52
DTSTAMP:20260423T045132Z
SUMMARY:BeeCHAIs Drinks & Discussion with Rabbi Levinsky
DESCRIPTION:United Jewish Federation of Utah\nCalendar\nhttps://shalomutah.
 org/united-jewish-federation-of-utah-calendar/beechais-drinks-discussion-w
 ith-rabbi-levinsky\n\nCome spend Shabbat at Temple Har Shalom and have som
 e Drinks & Discussion with Rabbi Levinsky after services!\n\nServices begi
 n at 6:30 PM (Don't have to attend but would be great to see you)\n\nThe d
 iscussion will start at 745. We will have appetizers/desserts available.\n
 \nAfter the discussion\, we can all head to the bars in Park City! If you 
 plan on attending and can help carpool people up to Park City please let m
 e know.
DTSTART;TZID=America/Denver:20181102T193000
DTEND;TZID=America/Denver:20181102T203000
END:VEVENT
END:VCALENDAR
