BEGIN:VCALENDAR
PRODID:-//eluceo/ical//2.0/EN
VERSION:2.0
CALSCALE:GREGORIAN
BEGIN:VEVENT
UID:d240d33f2eba67e290311f34fc7221bc
DTSTAMP:20260420T112528Z
SUMMARY:BeeCHAIs: Estate Planning - What Young Families Need To Know
DESCRIPTION:United Jewish Federation of Utah\nCalendar\nhttps://shalomutah.
 org/united-jewish-federation-of-utah-calendar/beechais-estate-planning-wha
 t-young-families-need-to-know\n\nCome meet Dara Cohen of D. R. Cohen Law\
 , LLC Law\, LLC. and learn how to plan for your family’s future! Cohen 
 provides legal services in the area of trust\, estates\, wills\, probate\,
  guardianship\, and more!\n\nJanuary 13\, 2018\n10:00 AM Church & State\n3
 70 S 300 E\, SLC\, UT 84111\n\nRSVP at cschaeffer@shalomutah.org
DTSTART;TZID=America/Denver:20190113T100000
DTEND;TZID=America/Denver:20190113T110000
END:VEVENT
END:VCALENDAR
