BEGIN:VCALENDAR
PRODID:-//eluceo/ical//2.0/EN
VERSION:2.0
CALSCALE:GREGORIAN
BEGIN:VEVENT
UID:e83adbdb2fc08cb3f2cee4affbee310f
DTSTAMP:20260419T224533Z
SUMMARY:BeeCHAIs Friendsgiving
DESCRIPTION:United Jewish Federation of Utah\nCalendar\nhttps://shalomutah.
 org/united-jewish-federation-of-utah-calendar/beechais-friendsgiving\n\nJo
 in old and new BeeCHAIs for a potluck Friendsgiving and Havdalah celebrati
 on! Together we will enjoy an early Thanksgiving with friends and great fo
 od. Potluck is Kosher fish and vegetarian dishes only. Bring your favorite
  traditional dish to share!\n\nLocation: Near Highdrive & 6400S at a BeeCH
 AI's home. Exact address given after RSVP.\n\nNovember 19 at 6:30 pm\n\n**
 *Please note: this event is a vegetarian or Kosher fish (fish that has fin
 s and scales) potluck. When you register\, please in...
DTSTART;TZID=America/Denver:20221119T183000
DTEND;TZID=America/Denver:20221119T203000
END:VEVENT
END:VCALENDAR
