BEGIN:VCALENDAR
PRODID:-//eluceo/ical//2.0/EN
VERSION:2.0
CALSCALE:GREGORIAN
BEGIN:VEVENT
UID:cfaaf65f9d1e33c87392e4da8f0cbfe4
DTSTAMP:20260420T144104Z
SUMMARY:BeeChais Hang Out
DESCRIPTION:United Jewish Federation of Utah\nCalendar\nhttps://shalomutah.
 org/united-jewish-federation-of-utah-calendar/beechais-hang-out\n\nCome ou
 t and meet other young Jewish adults in Salt Lake.\n\nPlease register so w
 e know how much food and drink to bring.
DTSTART;TZID=America/Denver:20210501T190000
DTEND;TZID=America/Denver:20210501T210000
END:VEVENT
END:VCALENDAR
