BEGIN:VCALENDAR
PRODID:-//eluceo/ical//2.0/EN
VERSION:2.0
CALSCALE:GREGORIAN
BEGIN:VEVENT
UID:bdb8f117931021ff9a69c9dcc5210051
DTSTAMP:20260421T212052Z
SUMMARY:BeeCHAIs Happy Hour
DESCRIPTION:United Jewish Federation of Utah\nCalendar\nhttps://shalomutah.
 org/united-jewish-federation-of-utah-calendar/beechais-happy-hour\n\nMore 
 info to come
DTSTART;TZID=America/Denver:20190926T190000
DTEND;TZID=America/Denver:20190926T210000
END:VEVENT
END:VCALENDAR
