BEGIN:VCALENDAR
PRODID:-//eluceo/ical//2.0/EN
VERSION:2.0
CALSCALE:GREGORIAN
BEGIN:VEVENT
UID:c1e4e00a4f437c0927359d0bdea883eb
DTSTAMP:20260420T084703Z
SUMMARY:BeeCHAIs Happy Hour at the zoo
DESCRIPTION:United Jewish Federation of Utah\nCalendar\nhttps://shalomutah.
 org/united-jewish-federation-of-utah-calendar/beechais-happy-hour-at-the-z
 oo\n\nMark your calendars! October 16th is the next Beechais Happy Hour at
  @hoglezoo for their Brew Lights evening event—hope to see you there!\n\
 nWe will meet everyone inside the Zoo next to the entrance. We will have o
 ur BeeCHAIs sign to make it easier for everyone to find us :)\n\nPlease no
 te we will be not getting tickets for individuals so please purchase your 
 ticket through the Zoo. See link below:\n\nhttps://store.hoglezoo.org/WebS
 tore/shop/ViewItems.aspx?CG=ZOOBREW&C=ZOOBREW\n\nIf you can...
DTSTART;TZID=America/Denver:20191016T183000
DTEND;TZID=America/Denver:20191016T213000
END:VEVENT
END:VCALENDAR
