BEGIN:VCALENDAR
PRODID:-//eluceo/ical//2.0/EN
VERSION:2.0
CALSCALE:GREGORIAN
BEGIN:VEVENT
UID:0f48328ae6a03489ac7bda44fe5349c4
DTSTAMP:20260423T233359Z
SUMMARY:BeeCHAIs Memorial Day BBQ
DESCRIPTION:United Jewish Federation of Utah\nCalendar\nhttps://shalomutah.
 org/united-jewish-federation-of-utah-calendar/beechais-memorial-day-bbq\n\
 n \n\nBeeCHAIs Annual Memorial Day Weekend  BBQ \n\nSunday\, May 29th  
 11:30am - 2pm \n\nWashington Park in Parleys Canyon\n\n(East of Mountain D
 ell Golf Course - Exit 134 on I-80 - Lower Pavilion)\n\n\n\n\n\n\n\n\n\nTh
 e BeeCHAI's will provide hot dogs\, hamburgers and veggie burgers. Howeve
 r\, we ask that you bring the balance of food and drink that you plan to
  enjoy.\n\nWe look forward to gathering in a relaxed setting to enjoy eac
 h other's company and...
DTSTART;TZID=America/Denver:20160529T113000
DTEND;TZID=America/Denver:20160529T140000
END:VEVENT
END:VCALENDAR
