BEGIN:VCALENDAR
PRODID:-//eluceo/ical//2.0/EN
VERSION:2.0
CALSCALE:GREGORIAN
BEGIN:VEVENT
UID:efd3c8f7e992d2c5e9a87bd577d6245a
DTSTAMP:20260420T172446Z
SUMMARY:BeeCHAIs: Picnic in the Park
DESCRIPTION:United Jewish Federation of Utah\nCalendar\nhttps://shalomutah.
 org/united-jewish-federation-of-utah-calendar/beechais-picnic-in-the-park-
 aug-024\n\nJoin BeeCHAIs at Liberty Park for a potluck picnic! Grab chairs
 \, blankets\, and whatever makes picnicing a blast for you\, and join us f
 or dinner at Liberty.\n\nExact location in the park will be shared after r
 egistration.\n\nRegister here: https://shalomutah.regfox.com/beechais-park
 -picnic-aug-24\n\nBeeCHAIs is an exclusive group of Jewish adults in their
  20s\, 30s and early 40s building community together.
DTSTART;TZID=America/Denver:20240822T190000
DTEND;TZID=America/Denver:20240822T210000
END:VEVENT
END:VCALENDAR
