BEGIN:VCALENDAR
PRODID:-//eluceo/ical//2.0/EN
VERSION:2.0
CALSCALE:GREGORIAN
BEGIN:VEVENT
UID:384b5fa91e6c38ff19659fbc39be030c
DTSTAMP:20260420T054840Z
SUMMARY:BeeCHAIs Saki & Sushi in the Sukkah
DESCRIPTION:United Jewish Federation of Utah\nCalendar\nhttps://shalomutah.
 org/united-jewish-federation-of-utah-calendar/beechais-saki-sushi-in-the-s
 ukkah\n\nMore Details to come! this event for Young Professionals in the c
 ommunity ages 21- 45ish.
DTSTART;TZID=America/Denver:20180929T200000
DTEND;TZID=America/Denver:20180929T230000
END:VEVENT
END:VCALENDAR
