BEGIN:VCALENDAR
PRODID:-//eluceo/ical//2.0/EN
VERSION:2.0
CALSCALE:GREGORIAN
BEGIN:VEVENT
UID:c8fb3ca26ea4c883b82f9d719594cfc9
DTSTAMP:20260420T132459Z
SUMMARY:BeeCHAIs Schmear & Service
DESCRIPTION:United Jewish Federation of Utah\nCalendar\nhttps://shalomutah.
 org/united-jewish-federation-of-utah-calendar/beechais-schmear-service-Jan
 23\n\nJoin BeeCHAIs for Service & Schmear at Jewish Family Service! JFS is
  a nondenominational\, nonprofit\, social service organization that suppor
 ts all Utahns as they navigate life's challenges- illness\, aging\, financ
 ial uncertainty\, mental health concerns\, family problems\, or personal i
 ssues.\n\nEnjoy coffee\, bagel & lox from the Bagel Project for breakfast\
 , followed up volunteering at the JFS food pantry. In 2021\, the JFS food 
 pantry served over 9\,000 people. Join old and new BeeCHAI friends and...
DTSTART;TZID=America/Denver:20230129T090000
DTEND;TZID=America/Denver:20230129T110000
END:VEVENT
END:VCALENDAR
