BEGIN:VCALENDAR
PRODID:-//eluceo/ical//2.0/EN
VERSION:2.0
CALSCALE:GREGORIAN
BEGIN:VEVENT
UID:8cdac7c26d93951a6ce8293c51b88542
DTSTAMP:20260421T172400Z
SUMMARY:BeeCHAIs: Sigd Shabbat
DESCRIPTION:United Jewish Federation of Utah\nCalendar\nhttps://shalomutah.
 org/united-jewish-federation-of-utah-calendar/beechais-shabbat-nov-2024\n\
 nJoin us for Sigd - an Ethiopian Jewish holiday celebrated 50 days after Y
 om Kippur. Sigd has been recognized as a national holiday in Israel since 
 2008 and is an amazing opportunity to celebrate Beta Israel culture (Ethio
 pian Jews). \n\nTogether we will learn how Sigd is celebrated today and h
 istorically while enjoying catered Ethiopian food. Suggested donation $8/p
 erson to help cover catering costs. \n\nBeeCHAIs is an exclusive group of
  Jews in theirs 20s and 30s creating community togethe...
DTSTART;TZID=America/Denver:20241122T190000
DTEND;TZID=America/Denver:20241122T210000
END:VEVENT
END:VCALENDAR
