BEGIN:VCALENDAR
PRODID:-//eluceo/ical//2.0/EN
VERSION:2.0
CALSCALE:GREGORIAN
BEGIN:VEVENT
UID:2ab14fbabd0c545750f819cb1b8571e3
DTSTAMP:20260423T112920Z
SUMMARY:BeeCHAIs: Snowshoeing
DESCRIPTION:United Jewish Federation of Utah\nCalendar\nhttps://shalomutah.
 org/united-jewish-federation-of-utah-calendar/beechais-snowshoeing\n\nLuna
 r Snowshoeing with BeeCHAIS\n\nFebruary 15 @6 PM\n\nSpruces Campground\, B
 ig Cottonwood Canyon\n\nCost: $8 Per Person\n\n \n\nJoin our young adult 
 group BeeChais\, SLCo Parks and Rec\, Cottonwood Canyons Foundation\, and 
 USU Extension for the Lunar Snowshoeing Series! All levels welcome! We wil
 l be doing an interpretive\, guided snowshoeing tour. Location will be at 
 Spruces Campground\, Big Cottonwood Canyon. Snowshoes will be provided.\n\
 nTransportation will not be provided\, please be aware t...
DTSTART;TZID=America/Denver:20230215T180000
DTEND;TZID=America/Denver:20230215T200000
END:VEVENT
END:VCALENDAR
