BEGIN:VCALENDAR
PRODID:-//eluceo/ical//2.0/EN
VERSION:2.0
CALSCALE:GREGORIAN
BEGIN:VEVENT
UID:5a439acef3cc23d1762ec84fe4eb09a0
DTSTAMP:20260421T024717Z
SUMMARY:BeeCHAIs: Summer Shabbat
DESCRIPTION:United Jewish Federation of Utah\nCalendar\nhttps://shalomutah.
 org/united-jewish-federation-of-utah-calendar/beechais-summer-shabbat-jul-
 024\n\nInformation coming soon.
DTSTART;TZID=America/Denver:20240719T190000
DTEND;TZID=America/Denver:20240719T210000
END:VEVENT
END:VCALENDAR
