BEGIN:VCALENDAR
PRODID:-//eluceo/ical//2.0/EN
VERSION:2.0
CALSCALE:GREGORIAN
BEGIN:VEVENT
UID:17fd8aa7afffc88c99619007e1f0e6e4
DTSTAMP:20260423T214452Z
SUMMARY:BeeCHAis Wine Wednesday
DESCRIPTION:United Jewish Federation of Utah\nCalendar\nhttps://shalomutah.
 org/united-jewish-federation-of-utah-calendar/beechais-wine-wednesday\n\nC
 ome have a drink with and relax :)\n\nEmail Chad Schaeffer for the zoom li
 nk
DTSTART;TZID=America/Denver:20200513T173000
DTEND;TZID=America/Denver:20200513T183000
END:VEVENT
END:VCALENDAR
