BEGIN:VCALENDAR
PRODID:-//eluceo/ical//2.0/EN
VERSION:2.0
CALSCALE:GREGORIAN
BEGIN:VEVENT
UID:d009b72c51f799b6cb0e3caaeda2352f
DTSTAMP:20260421T212824Z
SUMMARY:BeeCHAIs Winter Party
DESCRIPTION:United Jewish Federation of Utah\nCalendar\nhttps://shalomutah.
 org/united-jewish-federation-of-utah-calendar/beechais-winter-party\n\nWin
 ter & Wine Party!\n\nHosted by Zoe Calahorra Wood and Dave Wood\; address 
 given after registration.\n\n \n\nJoin BeeCHAIs (young adults from 20s-40
 s) for a winter celebration! Enjoy old and new friends as we toast in the 
 winter holidays together!\n\n \n\nDrop by anytime between 2 and 6 pm. At 
 4:45 pm\, we will light the first Chanukah candle together.\n\n \n\nRegis
 ter here: https://shalomutah.regfox.com/beechais-winter-wine-party
DTSTART;TZID=America/Denver:20221218T140000
DTEND;TZID=America/Denver:20221218T180000
END:VEVENT
END:VCALENDAR
