BEGIN:VCALENDAR
PRODID:-//eluceo/ical//2.0/EN
VERSION:2.0
CALSCALE:GREGORIAN
BEGIN:VEVENT
UID:30d7ec6c9f82acaa2d19cfc6c76c8fe5
DTSTAMP:20260421T052655Z
SUMMARY:Beer Time with Talia
DESCRIPTION:United Jewish Federation of Utah\nCalendar\nhttps://shalomutah.
 org/united-jewish-federation-of-utah-calendar/beer-time-with-talia-1611768
 174\n\nA beer tasting event for putim as a tea time with talia class\, we 
 will be trying out beer and talk about it\, about israeli beers and about 
 israel these days with covid and a little about purim in israel. this will
  feature talias friend arnon ben dov and talias brother david goldberg
DTSTART;TZID=America/Denver:20210221T140000
DTEND;TZID=America/Denver:20210221T150000
END:VEVENT
END:VCALENDAR
