BEGIN:VCALENDAR
PRODID:-//eluceo/ical//2.0/EN
VERSION:2.0
CALSCALE:GREGORIAN
BEGIN:VEVENT
UID:69dcd88a46edd06f3197bcf2b24fe194
DTSTAMP:20260422T050142Z
SUMMARY:Ben Gurion Society Annual Dinner
DESCRIPTION:United Jewish Federation of Utah\nCalendar\nhttps://shalomutah.
 org/united-jewish-federation-of-utah-calendar/ben-gurion-society-annual-di
 nner\n\nBEN GURION SOCIETY EVENT\n\nThe annual Ben Gurion Society Dinner (
 named after the first Prime Minister of Israel) is the signature fundraisi
 ng event of the United Jewish Federation of Utah. To attend\, an individua
 l or couple must pledge a minimum of $1\,000 to the annual campaign.\n\n 
 \n\nBEN GURION SOCIETY DINNER SPONSORSHIP OPPORTUNITY\n\nThis year the Uni
 ted Jewish Federation of Utah is reaching out to corporations\, companies\
 , organizations\, and individuals for major funding through spons...
DTSTART;TZID=America/Denver:20180308T180000
DTEND;TZID=America/Denver:20180308T180000
END:VEVENT
END:VCALENDAR
