BEGIN:VCALENDAR
PRODID:-//eluceo/ical//2.0/EN
VERSION:2.0
CALSCALE:GREGORIAN
BEGIN:VEVENT
UID:e60ffd3a38daa1cb560e1d158cf7eb26
DTSTAMP:20260422T044255Z
SUMMARY:Ben Gurion Society Event
DESCRIPTION:United Jewish Federation of Utah\nCalendar\nhttps://shalomutah.
 org/united-jewish-federation-of-utah-calendar/ben-gurion-society-event-142
 0677530\n\nPlease join United Jewish Federation of Utah for the 2015 Ben G
 urion Society Event\, Wednesday\, February 18\, 2015\, at 6:00pm at the Sa
 lt Lake Country Club\, 2400 Country Club Drive\, Salt Lake City\, UT 84109
 \, honoring Orrin Hatch for his unwavering commitment to the State of Isra
 el and the Jewish people.
DTSTART;TZID=America/Denver:20150218T180000
DTEND;TZID=America/Denver:20150218T210000
END:VEVENT
END:VCALENDAR
