BEGIN:VCALENDAR
PRODID:-//eluceo/ical//2.0/EN
VERSION:2.0
CALSCALE:GREGORIAN
BEGIN:VEVENT
UID:e0fabdf3591c20bfead12bf113c6e68e
DTSTAMP:20260420T041514Z
SUMMARY:Branches of Judaism
DESCRIPTION:United Jewish Federation of Utah\nCalendar\nhttps://shalomutah.
 org/united-jewish-federation-of-utah-calendar/branches-of-judaism-14872756
 69\n\nRabbi Ilana Schwartzman will enlighten us about the variation of thr
 eads of Judaism- Orthodox\, conservative\, Reform and Reconstructionist. F
 ree.
DTSTART;TZID=America/Denver:20170302T190000
DTEND;TZID=America/Denver:20170302T200000
END:VEVENT
END:VCALENDAR
