BEGIN:VCALENDAR
PRODID:-//eluceo/ical//2.0/EN
VERSION:2.0
CALSCALE:GREGORIAN
BEGIN:VEVENT
UID:09fb27591db86ed29e4e48a9f59031c7
DTSTAMP:20260422T212322Z
SUMMARY:Brith Sholem's Hanukkah Party
DESCRIPTION:United Jewish Federation of Utah\nCalendar\nhttps://shalomutah.
 org/united-jewish-federation-of-utah-calendar/brith-sholems-hanukkah-party
 -1542046219\n\nJoin us for our 2018 Hanukkah Party! Bring your menorah and
  candles as we light them all at the same time for an experience the kids 
 will be sure to remember!
DTSTART;TZID=America/Denver:20181207T183000
DTEND;TZID=America/Denver:20181207T203000
END:VEVENT
END:VCALENDAR
