BEGIN:VCALENDAR
PRODID:-//eluceo/ical//2.0/EN
VERSION:2.0
CALSCALE:GREGORIAN
BEGIN:VEVENT
UID:6f1ef4cd511c055ce9ac8dd63a49b343
DTSTAMP:20260422T134548Z
SUMMARY:Broadway Songs about the Jewish Experience You May Not Know
DESCRIPTION:United Jewish Federation of Utah\nCalendar\nhttps://shalomutah.
 org/united-jewish-federation-of-utah-calendar/broadway-songs-about-the-jew
 ish-experience-you-may-not-know\n\nWhen thinking of Jewish music on Broadw
 ay\, Fiddler on the Roof is usually the first show that comes to mind. B
 ut there are so many Jewish-themed songs you may not be familiar with from
  shows like the Education of Hyman Kaplan\, The Zulu and The Zayda and
  The Last Five Years. Join Broadway Performance Coach and Music Director 
 Michael Lavine as he plays piano and introduces us to great Jewish Broadwa
 y songs. Presented by Moment Magazine. \n\nRegistration required.
DTSTART;TZID=America/Denver:20200519T143000
DTEND;TZID=America/Denver:20200519T153000
END:VEVENT
END:VCALENDAR
