BEGIN:VCALENDAR
PRODID:-//eluceo/ical//2.0/EN
VERSION:2.0
CALSCALE:GREGORIAN
BEGIN:VEVENT
UID:75a52f434aee864af35a54f39f3fa3a5
DTSTAMP:20260422T040334Z
SUMMARY:Cantor Wendy Bat-Sarah Shabbat Service and Installation
DESCRIPTION:United Jewish Federation of Utah\nCalendar\nhttps://shalomutah.
 org/united-jewish-federation-of-utah-calendar/cantor-wendy-bat-sarah-shabb
 at-service-and-installation-1445463809\n\nCome welcome Cantor Bat-Sarah to
  Congregation Kol Ami and join our Shabbat and Installation Celebration!Ki
 ddush Luncheon to follow with Singalong with the Klezbros
DTSTART;TZID=America/Denver:20151031T090000
DTEND;TZID=America/Denver:20151031T130000
END:VEVENT
END:VCALENDAR
