BEGIN:VCALENDAR
PRODID:-//eluceo/ical//2.0/EN
VERSION:2.0
CALSCALE:GREGORIAN
BEGIN:VEVENT
UID:d6664603d20d77649b2dfcd256e38a81
DTSTAMP:20260420T205433Z
SUMMARY:Car Menorah Parade
DESCRIPTION:United Jewish Federation of Utah\nCalendar\nhttps://shalomutah.
 org/united-jewish-federation-of-utah-calendar/car-menorah-parade-160701952
 7\n\nDrive around the neighborhood in a procession of magnetic menorah-top
 ped cars\, sharing the light of Chanukah in an inspiring display of Jewish
  pride!\n\nPlease register on www.jewishparkcity.com.
DTSTART;TZID=America/Denver:20201215T173000
DTEND;TZID=America/Denver:20201215T183000
END:VEVENT
END:VCALENDAR
