BEGIN:VCALENDAR
PRODID:-//eluceo/ical//2.0/EN
VERSION:2.0
CALSCALE:GREGORIAN
BEGIN:VEVENT
UID:192702e3110c234ac25d79b28f7e4d58
DTSTAMP:20260421T172828Z
SUMMARY:CASINO NIGHT @ Congregation Kol-Ami
DESCRIPTION:United Jewish Federation of Utah\nCalendar\nhttps://shalomutah.
 org/united-jewish-federation-of-utah-calendar/casino-night--congregation-k
 ol-ami-1449686184\n\n$54 per person and $100 per couple.  This includes 2 
 drink tickets and casino chips and light refreshments.
DTSTART;TZID=America/Denver:20160206T193000
DTEND;TZID=America/Denver:20160206T230000
END:VEVENT
END:VCALENDAR
