BEGIN:VCALENDAR
PRODID:-//eluceo/ical//2.0/EN
VERSION:2.0
CALSCALE:GREGORIAN
BEGIN:VEVENT
UID:f39dd5c2ebf30a885e6dc3afa3db418d
DTSTAMP:20260420T234044Z
SUMMARY:Celebrate Israel 2019
DESCRIPTION:United Jewish Federation of Utah\nCalendar\nhttps://shalomutah.
 org/united-jewish-federation-of-utah-calendar/celebrate-israel-2019-155664
 2132\n\nJoin the Jewish community in Celebrating Israel's 71'st birthday!!
 !\n\nFREE and Open to the Public\n\nThe day will include Games\, Music\, A
 ctivities\, a Beer Garden (Cash or Card)\, Bounce Houses\, Crafts\, and Is
 raeli food!!!\n\nFor security reasons\, PLEASE\, make sure to bring your I
 D to use the restrooms inside the I J & Jeanné Wagner Jewish Community Ce
 nter. There will be no exceptions.
DTSTART;TZID=America/Denver:20190519T120000
DTEND;TZID=America/Denver:20190519T140000
END:VEVENT
END:VCALENDAR
